BEGIN:VCALENDAR
VERSION:2.0
PRODID:icalendar-ruby
CALSCALE:GREGORIAN
METHOD:PUBLISH
BEGIN:VEVENT
DTSTAMP:20260421T125017Z
UID:5-723813@firconwaylutheran.tithelysetup8.com
DTSTART:20261025T180000Z
DTEND:20261025T190000Z
CLASS:PUBLIC
CREATED:20260421T042105
DESCRIPTION:Sunday Worship
LAST-MODIFIED:20260421T042105
LOCATION:
SUMMARY:Sunday Worship
URL;VALUE=URI:https://firconwaylutheran.tithelysetup8.com/events/sunday-wor
 ship/2026-10-25
END:VEVENT
END:VCALENDAR
