BEGIN:VCALENDAR
VERSION:2.0
PRODID:icalendar-ruby
CALSCALE:GREGORIAN
METHOD:PUBLISH
BEGIN:VEVENT
DTSTAMP:20260421T142902Z
UID:5-724193@firconwaylutheran.tithelysetup8.com
DTSTART:20261101T190000Z
DTEND:20261101T200000Z
CLASS:PUBLIC
CREATED:20260421T065641
DESCRIPTION:Sunday Worship
LAST-MODIFIED:20260421T065641
LOCATION:
SUMMARY:Sunday Worship
URL;VALUE=URI:https://firconwaylutheran.tithelysetup8.com/events/sunday-wor
 ship/2026-11-01
END:VEVENT
END:VCALENDAR
